BEGIN:VCALENDAR
VERSION:2.0
PRODID:-//Compagnie Nansouk - ECPv6.15.20//NONSGML v1.0//EN
CALSCALE:GREGORIAN
METHOD:PUBLISH
X-ORIGINAL-URL:https://www.cienansouk.com
X-WR-CALDESC:Évènements pour Compagnie Nansouk
REFRESH-INTERVAL;VALUE=DURATION:PT1H
X-Robots-Tag:noindex
X-PUBLISHED-TTL:PT1H
BEGIN:VTIMEZONE
TZID:Europe/Paris
BEGIN:DAYLIGHT
TZOFFSETFROM:+0100
TZOFFSETTO:+0200
TZNAME:CEST
DTSTART:20250330T010000
END:DAYLIGHT
BEGIN:STANDARD
TZOFFSETFROM:+0200
TZOFFSETTO:+0100
TZNAME:CET
DTSTART:20251026T010000
END:STANDARD
BEGIN:DAYLIGHT
TZOFFSETFROM:+0100
TZOFFSETTO:+0200
TZNAME:CEST
DTSTART:20260329T010000
END:DAYLIGHT
BEGIN:STANDARD
TZOFFSETFROM:+0200
TZOFFSETTO:+0100
TZNAME:CET
DTSTART:20261025T010000
END:STANDARD
BEGIN:DAYLIGHT
TZOFFSETFROM:+0100
TZOFFSETTO:+0200
TZNAME:CEST
DTSTART:20270328T010000
END:DAYLIGHT
BEGIN:STANDARD
TZOFFSETFROM:+0200
TZOFFSETTO:+0100
TZNAME:CET
DTSTART:20271031T010000
END:STANDARD
END:VTIMEZONE
BEGIN:VEVENT
DTSTART;TZID=Europe/Paris:20260411T103000
DTEND;TZID=Europe/Paris:20260411T110500
DTSTAMP:20260423T230336
CREATED:20251113T124953Z
LAST-MODIFIED:20251113T124953Z
UID:10000188-1775903400-1775905500@www.cienansouk.com
SUMMARY:Le SILENCE DES OISEAUX
DESCRIPTION:
URL:https://www.cienansouk.com/event/le-silence-des-oiseaux-6/
LOCATION:Centre culturel Brique Rouge\, TOULOUSE (31)
CATEGORIES:Silence
END:VEVENT
BEGIN:VEVENT
DTSTART;TZID=Europe/Paris:20260410T100000
DTEND;TZID=Europe/Paris:20260410T103500
DTSTAMP:20260423T230336
CREATED:20251018T095931Z
LAST-MODIFIED:20251113T124849Z
UID:10000183-1775815200-1775817300@www.cienansouk.com
SUMMARY:Le Silence de Oiseaux
DESCRIPTION:
URL:https://www.cienansouk.com/event/le-silence-de-oiseaux/
LOCATION:Centre culturel Brique Rouge\, TOULOUSE (31)
CATEGORIES:Silence
END:VEVENT
END:VCALENDAR