BEGIN:VCALENDAR
VERSION:2.0
PRODID:-//Compagnie Nansouk - ECPv6.15.20//NONSGML v1.0//EN
CALSCALE:GREGORIAN
METHOD:PUBLISH
X-WR-CALNAME:Compagnie Nansouk
X-ORIGINAL-URL:https://www.cienansouk.com
X-WR-CALDESC:Évènements pour Compagnie Nansouk
REFRESH-INTERVAL;VALUE=DURATION:PT1H
X-Robots-Tag:noindex
X-PUBLISHED-TTL:PT1H
BEGIN:VTIMEZONE
TZID:Europe/Paris
BEGIN:DAYLIGHT
TZOFFSETFROM:+0100
TZOFFSETTO:+0200
TZNAME:CEST
DTSTART:20250330T010000
END:DAYLIGHT
BEGIN:STANDARD
TZOFFSETFROM:+0200
TZOFFSETTO:+0100
TZNAME:CET
DTSTART:20251026T010000
END:STANDARD
BEGIN:DAYLIGHT
TZOFFSETFROM:+0100
TZOFFSETTO:+0200
TZNAME:CEST
DTSTART:20260329T010000
END:DAYLIGHT
BEGIN:STANDARD
TZOFFSETFROM:+0200
TZOFFSETTO:+0100
TZNAME:CET
DTSTART:20261025T010000
END:STANDARD
BEGIN:DAYLIGHT
TZOFFSETFROM:+0100
TZOFFSETTO:+0200
TZNAME:CEST
DTSTART:20270328T010000
END:DAYLIGHT
BEGIN:STANDARD
TZOFFSETFROM:+0200
TZOFFSETTO:+0100
TZNAME:CET
DTSTART:20271031T010000
END:STANDARD
END:VTIMEZONE
BEGIN:VEVENT
DTSTART;TZID=Europe/Paris:20260517T154500
DTEND;TZID=Europe/Paris:20260517T163000
DTSTAMP:20260423T211118
CREATED:20251216T133431Z
LAST-MODIFIED:20260203T110826Z
UID:10000189-1779032700-1779035400@www.cienansouk.com
SUMMARY:Le presque petit chaperon rouge
DESCRIPTION:
URL:https://www.cienansouk.com/event/le-presque-petit-chaperon-rouge-3/
LOCATION:Festival les Maynats\, POUZAC (65)
CATEGORIES:Chaperon
END:VEVENT
END:VCALENDAR