BEGIN:VCALENDAR
VERSION:2.0
PRODID:-//Compagnie Nansouk - ECPv6.15.20//NONSGML v1.0//EN
CALSCALE:GREGORIAN
METHOD:PUBLISH
X-ORIGINAL-URL:https://www.cienansouk.com
X-WR-CALDESC:Évènements pour Compagnie Nansouk
REFRESH-INTERVAL;VALUE=DURATION:PT1H
X-Robots-Tag:noindex
X-PUBLISHED-TTL:PT1H
BEGIN:VTIMEZONE
TZID:Europe/Paris
BEGIN:DAYLIGHT
TZOFFSETFROM:+0100
TZOFFSETTO:+0200
TZNAME:CEST
DTSTART:20240331T010000
END:DAYLIGHT
BEGIN:STANDARD
TZOFFSETFROM:+0200
TZOFFSETTO:+0100
TZNAME:CET
DTSTART:20241027T010000
END:STANDARD
BEGIN:DAYLIGHT
TZOFFSETFROM:+0100
TZOFFSETTO:+0200
TZNAME:CEST
DTSTART:20250330T010000
END:DAYLIGHT
BEGIN:STANDARD
TZOFFSETFROM:+0200
TZOFFSETTO:+0100
TZNAME:CET
DTSTART:20251026T010000
END:STANDARD
BEGIN:DAYLIGHT
TZOFFSETFROM:+0100
TZOFFSETTO:+0200
TZNAME:CEST
DTSTART:20260329T010000
END:DAYLIGHT
BEGIN:STANDARD
TZOFFSETFROM:+0200
TZOFFSETTO:+0100
TZNAME:CET
DTSTART:20261025T010000
END:STANDARD
END:VTIMEZONE
BEGIN:VEVENT
DTSTART;TZID=Europe/Paris:20250920T150000
DTEND;TZID=Europe/Paris:20250920T170000
DTSTAMP:20260423T232742
CREATED:20250812T222855Z
LAST-MODIFIED:20250929T195603Z
UID:10000154-1758380400-1758387600@www.cienansouk.com
SUMMARY:Le Presque Petit Chaperon rouge
DESCRIPTION:
URL:https://www.cienansouk.com/event/le-presque-petit-chaperon-rouge/2025-09-20/
LOCATION:Théâtre du Grand Rond\, TOULOUSE (31)
CATEGORIES:Chaperon
END:VEVENT
BEGIN:VEVENT
DTSTART;TZID=Europe/Paris:20250917T150000
DTEND;TZID=Europe/Paris:20250917T170000
DTSTAMP:20260423T232742
CREATED:20250812T222855Z
LAST-MODIFIED:20250929T195603Z
UID:10000153-1758121200-1758128400@www.cienansouk.com
SUMMARY:Le Presque Petit Chaperon rouge
DESCRIPTION:
URL:https://www.cienansouk.com/event/le-presque-petit-chaperon-rouge/2025-09-17/
LOCATION:Théâtre du Grand Rond\, TOULOUSE (31)
CATEGORIES:Chaperon
END:VEVENT
BEGIN:VEVENT
DTSTART;TZID=Europe/Paris:20250913T150000
DTEND;TZID=Europe/Paris:20250913T170000
DTSTAMP:20260423T232742
CREATED:20250812T222855Z
LAST-MODIFIED:20250929T195603Z
UID:10000152-1757775600-1757782800@www.cienansouk.com
SUMMARY:Le Presque Petit Chaperon rouge
DESCRIPTION:
URL:https://www.cienansouk.com/event/le-presque-petit-chaperon-rouge/2025-09-13/
LOCATION:Théâtre du Grand Rond\, TOULOUSE (31)
CATEGORIES:Chaperon
END:VEVENT
BEGIN:VEVENT
DTSTART;TZID=Europe/Paris:20250911T143000
DTEND;TZID=Europe/Paris:20250911T170000
DTSTAMP:20260423T232742
CREATED:20250812T222855Z
LAST-MODIFIED:20250929T195603Z
UID:10000151-1757601000-1757610000@www.cienansouk.com
SUMMARY:Le Presque Petit Chaperon rouge
DESCRIPTION:
URL:https://www.cienansouk.com/event/le-presque-petit-chaperon-rouge/2025-09-11/2/
LOCATION:Théâtre du Grand Rond\, TOULOUSE (31)
CATEGORIES:Chaperon
END:VEVENT
BEGIN:VEVENT
DTSTART;TZID=Europe/Paris:20250911T103000
DTEND;TZID=Europe/Paris:20250911T103000
DTSTAMP:20260423T232742
CREATED:20250812T222855Z
LAST-MODIFIED:20250929T195603Z
UID:10000150-1757586600-1757586600@www.cienansouk.com
SUMMARY:Le Presque Petit Chaperon rouge
DESCRIPTION:
URL:https://www.cienansouk.com/event/le-presque-petit-chaperon-rouge/2025-09-11/1/
LOCATION:Théâtre du Grand Rond\, TOULOUSE (31)
CATEGORIES:Chaperon
END:VEVENT
BEGIN:VEVENT
DTSTART;TZID=Europe/Paris:20250910T150000
DTEND;TZID=Europe/Paris:20250910T150000
DTSTAMP:20260423T232742
CREATED:20250812T222855Z
LAST-MODIFIED:20250929T195603Z
UID:10000149-1757516400-1757516400@www.cienansouk.com
SUMMARY:Le Presque Petit Chaperon rouge
DESCRIPTION:
URL:https://www.cienansouk.com/event/le-presque-petit-chaperon-rouge/2025-09-10/
LOCATION:Théâtre du Grand Rond\, TOULOUSE (31)
CATEGORIES:Chaperon
END:VEVENT
END:VCALENDAR